BEGIN:VCALENDAR
VERSION:2.0
PRODID:-// - ECPv6.15.20//NONSGML v1.0//EN
CALSCALE:GREGORIAN
METHOD:PUBLISH
X-ORIGINAL-URL:https://haleycavanaghbooks.com
X-WR-CALDESC:Events for 
REFRESH-INTERVAL;VALUE=DURATION:PT1H
X-Robots-Tag:noindex
X-PUBLISHED-TTL:PT1H
BEGIN:VTIMEZONE
TZID:UTC
BEGIN:STANDARD
TZOFFSETFROM:+0000
TZOFFSETTO:+0000
TZNAME:UTC
DTSTART:20180101T000000
END:STANDARD
END:VTIMEZONE
BEGIN:VEVENT
DTSTART;TZID=UTC:20190905T080000
DTEND;TZID=UTC:20190907T200000
DTSTAMP:20260419T125939
CREATED:20190427T204448Z
LAST-MODIFIED:20190427T204448Z
UID:1193-1567670400-1567886400@haleycavanaghbooks.com
SUMMARY:FanX 2019 Fall
DESCRIPTION:
URL:https://haleycavanaghbooks.com/event/fanx-2019-fall/
LOCATION:Salt Palace Convention Center\, 100 West Temple\, Salt Lake City\, UT\, 84101\, United States
END:VEVENT
END:VCALENDAR